BEGIN:VCALENDAR
X-WR-TIMEZONE:Europe/Berlin
X-WR-CALNAME:rbb-Kalender
VERSION:2.0
METHOD:PUBLISH
CALSCALE:GREGORIAN
PRODID:rbb-CMS DAY
BEGIN:VEVENT
CLASS:PUBLIC
URL:http://www.rbb-online.de/content/rbb/rbb/zibb/archiv/20131107_1830/fischer.html
DTEND:20131107T192500
DTSTART:20131107T183000
UID:/content/rbb/rbb/zibb/archiv/20131107_1830/fischer
DTSTAMP:20140406T232253
DESCRIPTION:Der Fischer Karl Heinz König aus Sperenberg ist Ende Oktober 65 Jahre alt geworden und geht nun in Rente. Fast 48 Jahre lang war er täglich auf den Seen unterwegs und hat seinen Fang eingeholt. Noch gibt es keinen Nachfolger für ihn.\n\n\n
SUMMARY:Der alte Mann und der See
END:VEVENT
END:VCALENDAR
