BEGIN:VCALENDAR
X-WR-TIMEZONE:Europe/Berlin
X-WR-CALNAME:rbb-Kalender
VERSION:2.0
METHOD:PUBLISH
CALSCALE:GREGORIAN
PRODID:rbb-CMS DAY
BEGIN:VEVENT
CLASS:PUBLIC
URL:http://www.rbb-online.de/content/rbb/rbb/zibb/archiv/20131108_1830/Nazi-Register.html
DTEND:20131108T192500
DTSTART:20131108T183000
UID:/content/rbb/rbb/zibb/archiv/20131108_1830/Nazi-Register
DTSTAMP:20140406T215505
DESCRIPTION:Mit der Reichspogromnacht im Jahr 1938 fand die systematische Diskriminierung und Vertreibung der Juden in Deutschland ihren vorläufigen Höhepunkt. 75 Jahre ist dies nun her und weiterhin sind viele Neonazis aktiv. Doch es gibt auch viele Menschen, die sich dagegen zur Wehr setzen.\n\n\n
SUMMARY:Register gegen Rechts
END:VEVENT
END:VCALENDAR
