BEGIN:VCALENDAR
X-WR-TIMEZONE:Europe/Berlin
X-WR-CALNAME:rbb-Kalender
VERSION:2.0
METHOD:PUBLISH
CALSCALE:GREGORIAN
PRODID:rbb-CMS DAY
BEGIN:VEVENT
CLASS:PUBLIC
URL:http://www.rbb-online.de/content/rbb/rbb/zibb/archiv/20131108_1830/fussgaengerzone.html
DTEND:20131108T192500
DTSTART:20131108T183000
UID:/content/rbb/rbb/zibb/archiv/20131108_1830/fussgaengerzone
DTSTAMP:20140406T215513
DESCRIPTION:Eine Fußgängerzone ist eine Verkehrsfläche, auf der Fußgänger Vorrang vor anderen Verkehrsteilnehmern haben, so lautet die offizielle Definition. Als erste Fußgängerzone Deutschlands gilt die Treppenstraße in Kassel. Sie wurde bereits vor 60 Jahren eröffnet.\n\n\n
SUMMARY:zibb zurück: Fußgängerzone
END:VEVENT
END:VCALENDAR
