BEGIN:VCALENDAR
X-WR-TIMEZONE:Europe/Berlin
X-WR-CALNAME:rbb-Kalender
VERSION:2.0
METHOD:PUBLISH
CALSCALE:GREGORIAN
PRODID:rbb-CMS DAY
BEGIN:VEVENT
CLASS:PUBLIC
URL:http://www.rbb-online.de/content/rbb/rbb/zibb/archiv/20131111_1830/abbavorcomeback.html
DTEND:20131111T192500
DTSTART:20131111T183000
UID:/content/rbb/rbb/zibb/archiv/20131111_1830/abbavorcomeback
DTSTAMP:20140406T041301
DESCRIPTION:Sie sind eine der erfolgreichsten Pop-Combos der Welt. In den 70er und 80er Jahren haben die vier Schweden Musikgeschichte geschrieben und Millionen Fans auf der Welt lieben noch heute ihre Hits. Nun sieht es so aus, als könnte sich ein Comeback formieren.\n \n
SUMMARY:ABBA vor Comeback?
END:VEVENT
END:VCALENDAR
