BEGIN:VCALENDAR
X-WR-TIMEZONE:Europe/Berlin
X-WR-CALNAME:rbb-Kalender
VERSION:2.0
METHOD:PUBLISH
CALSCALE:GREGORIAN
PRODID:rbb-CMS DAY
BEGIN:VEVENT
CLASS:PUBLIC
URL:http://www.rbb-online.de/content/rbb/rbb/zibb/archiv/20131111_1830/karneval.html
DTEND:20131111T192500
DTSTART:20131111T183000
UID:/content/rbb/rbb/zibb/archiv/20131111_1830/karneval
DTSTAMP:20140406T041247
DESCRIPTION:Nun ist es wieder soweit. Am 11.11. um 11 Uhr und 11 Minuten hat die "Fünfte Jahreszeit" begonnen. In Teltow hat man heute traditonsgemäß den Faschingsauftakt gefeiert und zibb war dabei …\n
SUMMARY:Karneval in Teltow
END:VEVENT
END:VCALENDAR
