BEGIN:VCALENDAR
X-WR-TIMEZONE:Europe/Berlin
X-WR-CALNAME:rbb-Kalender
VERSION:2.0
METHOD:PUBLISH
CALSCALE:GREGORIAN
PRODID:rbb-CMS DAY
BEGIN:VEVENT
CLASS:PUBLIC
URL:http://www.rbb-online.de/content/rbb/rbb/zibb/archiv/20131111_1830/kochen.html
DTEND:20131111T192500
DTSTART:20131111T183000
UID:/content/rbb/rbb/zibb/archiv/20131111_1830/kochen
DTSTAMP:20140406T041230
DESCRIPTION:Die Französin Moira Seba stellt ihre Gäste an den Herd und bringt ihnen französische Lebensart bei - ganz nebenbei in der Mittagspause. Am Ende kann man sein selbst zubereitetes Menü auch schnell wieder mit ins Büro nehmen. Oder auch entspannt im Kochatelier "Ratatouille" speisen, mit einem gepflegten Glas Wein natürlich.\n\n\n
SUMMARY:Kochkurs in der Mittagspause
END:VEVENT
END:VCALENDAR
