BEGIN:VCALENDAR
X-WR-TIMEZONE:Europe/Berlin
X-WR-CALNAME:rbb-Kalender
VERSION:2.0
METHOD:PUBLISH
CALSCALE:GREGORIAN
PRODID:rbb-CMS DAY
BEGIN:VEVENT
CLASS:PUBLIC
URL:http://www.rbb-online.de/content/rbb/rbb/zibb/archiv/20131112_1830/tribute-to-panem.html
DTEND:20131112T192500
DTSTART:20131112T183000
UID:/content/rbb/rbb/zibb/archiv/20131112_1830/tribute-to-panem
DTSTAMP:20140406T040647
DESCRIPTION:Im Sony-Center fand am Abend die Premiere von „Catching Fire“, dem zweiten Teil des Welterfolgs “Tribute von Panem“ statt. Auf dem Roten Teppich am Potsdamer Platz wurden unter anderem Oscar-Preisträgerin Jennifer Lawrence, Liam Hemsworth und Josh Hutcherson erwartet.\n
SUMMARY:Filmpremiere: Tribute to Panem
END:VEVENT
END:VCALENDAR
