BEGIN:VCALENDAR
X-WR-TIMEZONE:Europe/Berlin
X-WR-CALNAME:rbb-Kalender
VERSION:2.0
METHOD:PUBLISH
CALSCALE:GREGORIAN
PRODID:rbb-CMS DAY
BEGIN:VEVENT
CLASS:PUBLIC
URL:http://www.rbb-online.de/content/rbb/rbb/zibb/archiv/20131113_1830/drachen.html
DTEND:20131113T192500
DTSTART:20131113T183000
UID:/content/rbb/rbb/zibb/archiv/20131113_1830/drachen
DTSTAMP:20140406T041336
DESCRIPTION:Windkraft ist eine der alternativen Energiequellen, denen man eine große Zukunft prognostiziert. Doch die Produktion und Installation von Windrädern ist teuer. Eine Firma aus Kleinmachnow setzt dagegen auf Leichtbaudrachen, die Windstrom liefern sollen. \n
SUMMARY:Drachen gegen Windmühlen
END:VEVENT
END:VCALENDAR
