BEGIN:VCALENDAR
X-WR-TIMEZONE:Europe/Berlin
X-WR-CALNAME:rbb-Kalender
VERSION:2.0
METHOD:PUBLISH
CALSCALE:GREGORIAN
PRODID:rbb-CMS DAY
BEGIN:VEVENT
CLASS:PUBLIC
URL:http://www.rbb-online.de/content/rbb/rbb/zibb/archiv/20131113_1830/simon-schwimmer.html
DTEND:20131113T192500
DTSTART:20131113T183000
UID:/content/rbb/rbb/zibb/archiv/20131113_1830/simon-schwimmer
DTSTAMP:20140406T041414
DESCRIPTION:Der 13-jährige Simon besucht die Eliteschule des Sports in Berlin-Hohenschönhausen. Hier trifft man auf die Olympiasieger von morgen. Simon ist mehrfacher deutscher Meister im Brustschwimmen. Sein Weg zum Leistungssportler war jedoch weiter als der seiner Klassenkameraden. Denn Simon ist ab der Hüfte teilgelähmt.\n\n\n\n\n
SUMMARY:Simon, das große Schwimmtalent
END:VEVENT
END:VCALENDAR
