BEGIN:VCALENDAR
X-WR-TIMEZONE:Europe/Berlin
X-WR-CALNAME:rbb-Kalender
VERSION:2.0
METHOD:PUBLISH
CALSCALE:GREGORIAN
PRODID:rbb-CMS DAY
BEGIN:VEVENT
CLASS:PUBLIC
URL:http://www.rbb-online.de/content/rbb/rbb/zibb/archiv/20131113_18301/abfischen.html
DTEND:20131114T192500
DTSTART:20131114T183000
UID:/content/rbb/rbb/zibb/archiv/20131113_18301/abfischen
DTSTAMP:20140406T041721
DESCRIPTION:Stefan Timm aus Altfriedland im Oderbruch ist Fischer und hat auch ein Herz für Hobbyangler. Einen seiner Teiche hat er den Petrijüngern überlassen. Was die während der Saison nicht aus dem Teich geholt haben, wird im November von ihm abgefischt. Da blutet so manchem Angler das Herz, wenn er sieht, welche Trophäe ihm entgangen ist.\n\n\n
SUMMARY:Abfischen in Altfriedland
END:VEVENT
END:VCALENDAR
