BEGIN:VCALENDAR
X-WR-TIMEZONE:Europe/Berlin
X-WR-CALNAME:rbb-Kalender
VERSION:2.0
METHOD:PUBLISH
CALSCALE:GREGORIAN
PRODID:rbb-CMS DAY
BEGIN:VEVENT
CLASS:PUBLIC
URL:http://www.rbb-online.de/content/rbb/rbb/zibb/archiv/20131113_18301/spagatsprinterin.html
DTEND:20131114T192500
DTSTART:20131114T183000
UID:/content/rbb/rbb/zibb/archiv/20131113_18301/spagatsprinterin
DTSTAMP:20140406T041824
DESCRIPTION:Als der Anruf der Produktionsfirma kam, dachte Josephine Müller an einen Scherz: Spagat und darin Sprinten? Vier Monate später trat die Potsdamerin damit an, in der ARD-Show "Die deutschen Meister".\n\n\n
SUMMARY:Die Spagat-Sprinterin
END:VEVENT
END:VCALENDAR
