BEGIN:VCALENDAR
X-WR-TIMEZONE:Europe/Berlin
X-WR-CALNAME:rbb-Kalender
VERSION:2.0
METHOD:PUBLISH
CALSCALE:GREGORIAN
PRODID:rbb-CMS DAY
BEGIN:VEVENT
CLASS:PUBLIC
URL:http://www.rbb-online.de/content/rbb/rbb/zibb/archiv/20131113_18301/vorlesetag.html
DTEND:20131114T192500
DTSTART:20131114T183000
UID:/content/rbb/rbb/zibb/archiv/20131113_18301/vorlesetag
DTSTAMP:20140406T041756
DESCRIPTION:Bereits zum zehnten Mal wird in Deutschland ein echtes Kulturgut hochgehalten und geehrt. Nämlich das Vorlesen. Am bundesweiten Vorlesetag nehmen mehr als 75.000 Menschen teil und lesen überall - darunter auch hunderte Prominente.\n\n\n
SUMMARY:Lies mir was vor!
END:VEVENT
END:VCALENDAR
