BEGIN:VCALENDAR
X-WR-TIMEZONE:Europe/Berlin
X-WR-CALNAME:rbb-Kalender
VERSION:2.0
METHOD:PUBLISH
CALSCALE:GREGORIAN
PRODID:rbb-CMS DAY
BEGIN:VEVENT
CLASS:PUBLIC
URL:http://www.rbb-online.de/content/rbb/rbb/zibb/archiv/20131113_18301/wulff.html
DTEND:20131114T192500
DTSTART:20131114T183000
UID:/content/rbb/rbb/zibb/archiv/20131113_18301/wulff
DTSTAMP:20140406T041811
DESCRIPTION:Mit Christian Wulff sitzt erstmals ein ehemaliger Bundespräsident auf der Anklagebank. Vor dem Landgericht Hannover wies er den Vorwurf der Vorteilsannahme vehement zurück. Kann er seinen Ruf noch retten? zibb wollte Ihre Meinung hören.\n
SUMMARY:Christian Wulff vor Gericht
END:VEVENT
END:VCALENDAR
