BEGIN:VCALENDAR
X-WR-TIMEZONE:Europe/Berlin
X-WR-CALNAME:rbb-Kalender
VERSION:2.0
METHOD:PUBLISH
CALSCALE:GREGORIAN
PRODID:rbb-CMS DAY
BEGIN:VEVENT
CLASS:PUBLIC
URL:http://www.rbb-online.de/content/rbb/rbb/zibb/archiv/20131113_183011/zibbzurueck.html
DTEND:20131115T192500
DTSTART:20131115T183000
UID:/content/rbb/rbb/zibb/archiv/20131113_183011/zibbzurueck
DTSTAMP:20140406T040756
DESCRIPTION:Auf ein Berliner WG-Zimmer bewerben sich bis zu 50 Studenten. Kleine erschwingliche Wohnungen sind fast gar nicht zu bekommen. Wie dieses Problem in der Vergangenheit gelöst wurde, und wie und wo die Studenten früher so wohnten, das zeigen wir in unserem Rückblick.\n\n\n
SUMMARY:zibb zurück
END:VEVENT
END:VCALENDAR
