BEGIN:VCALENDAR
X-WR-TIMEZONE:Europe/Berlin
X-WR-CALNAME:rbb-Kalender
VERSION:2.0
METHOD:PUBLISH
CALSCALE:GREGORIAN
PRODID:rbb-CMS DAY
BEGIN:VEVENT
CLASS:PUBLIC
URL:http://www.rbb-online.de/content/rbb/rbb/zibb/archiv/20131119_1830/kiki-sol-im-wedding.html
DTEND:20131119T192500
DTSTART:20131119T183000
UID:/content/rbb/rbb/zibb/archiv/20131119_1830/kiki-sol-im-wedding
DTSTAMP:20140406T232058
DESCRIPTION:Noch gilt das "Kiki Sol" im Wedding als echter Geheimtipp. Zweimal in der Woche finden hier Jam-Sessions statt: Jeder, der will, kann Musik machen. Doch der Club bietet nicht nur Auftrittsmöglichkeiten für künftige Rockstars. Im Verein gibt es auch ein umfangreiches Kulturangebot für die Menschen aus dem Kiez.\n\n\n
SUMMARY:Wedding im Wandel: Kiki Sol
END:VEVENT
END:VCALENDAR
