BEGIN:VCALENDAR
X-WR-TIMEZONE:Europe/Berlin
X-WR-CALNAME:rbb-Kalender
VERSION:2.0
METHOD:PUBLISH
CALSCALE:GREGORIAN
PRODID:rbb-CMS DAY
BEGIN:VEVENT
CLASS:PUBLIC
URL:http://www.rbb-online.de/content/rbb/rbb/zibb/archiv/20131119_1830/neues-zuhause-fuer-blinden-hund.html
DTEND:20131119T192500
DTSTART:20131119T183000
UID:/content/rbb/rbb/zibb/archiv/20131119_1830/neues-zuhause-fuer-blinden-hund
DTSTAMP:20140406T232023
DESCRIPTION:Ein blinder Hund wird aus einem Kellerverließ befreit, kommt ins Tierheim und wird live im zibb-Sommergarten vorgestellt. Es gibt Interessenten, aber niemand scheint das ideale Zuhause für den freundlichen Rüden zu haben. Doch dann änderte sich alles.\n\n\n
SUMMARY:Neues Zuhause für blinden Hund
END:VEVENT
END:VCALENDAR
