BEGIN:VCALENDAR
X-WR-TIMEZONE:Europe/Berlin
X-WR-CALNAME:rbb-Kalender
VERSION:2.0
METHOD:PUBLISH
CALSCALE:GREGORIAN
PRODID:rbb-CMS DAY
BEGIN:VEVENT
CLASS:PUBLIC
URL:http://www.rbb-online.de/content/rbb/rbb/zibb/archiv/20131119_1830/stummfilm-slam-im-wintergarten.html
DTEND:20131119T192500
DTSTART:20131119T183000
UID:/content/rbb/rbb/zibb/archiv/20131119_1830/stummfilm-slam-im-wintergarten
DTSTAMP:20140406T232005
DESCRIPTION:Stephan Graf von Bothmer ist der Star unter den Stummfilm-Pianisten, bislang ließ er jedes Konzertevent zum intensiven Erlebnis werden. Wir sind live im Wintergarten-Varieté kurz vor Beginn seiner aktuellen Show.\n\n\n
SUMMARY:Stummfilm-Slam im Wintergarten
END:VEVENT
END:VCALENDAR
