BEGIN:VCALENDAR
X-WR-TIMEZONE:Europe/Berlin
X-WR-CALNAME:rbb-Kalender
VERSION:2.0
METHOD:PUBLISH
CALSCALE:GREGORIAN
PRODID:rbb-CMS DAY
BEGIN:VEVENT
CLASS:PUBLIC
URL:http://www.rbb-online.de/content/rbb/rbb/zibb/archiv/20131119_1830/volkspark-friedrichshain.html
DTEND:20131119T192500
DTSTART:20131119T183000
UID:/content/rbb/rbb/zibb/archiv/20131119_1830/volkspark-friedrichshain
DTSTAMP:20140406T232028
DESCRIPTION:Ein Park für das Volk, benannt nach dem königlichen Herrscher - das ist der Volkspark Friedrichshain, der seit nunmehr 170 Jahren Treffpunkt für politische und unpolitische Begebenheiten ist. Doch das Gelände hat noch weitaus mehr zu bieten, wie die rbb-Dokumentation zeigt.\n\n\n
SUMMARY:Geheimnisvolle Orte: Der Volkspark Friedrichshain
END:VEVENT
END:VCALENDAR
