BEGIN:VCALENDAR
X-WR-TIMEZONE:Europe/Berlin
X-WR-CALNAME:rbb-Kalender
VERSION:2.0
METHOD:PUBLISH
CALSCALE:GREGORIAN
PRODID:rbb-CMS DAY
BEGIN:VEVENT
CLASS:PUBLIC
URL:http://www.rbb-online.de/content/rbb/rbb/zibb/archiv/20131120_1830/berlin-im-beutel.html
DTEND:20131120T192500
DTSTART:20131120T183000
UID:/content/rbb/rbb/zibb/archiv/20131120_1830/berlin-im-beutel
DTSTAMP:20140406T234128
DESCRIPTION:Die Spree aus Filz, der Fernsehturm zum Zusammenstecken, eine lückenlose East Side Gallery. Modellbauer Lorenz Huber hat mit "Berlin im Beutel" ein Souvenir erfunden, das die Stadt bewegen soll. zibb hat sich mit ihm getroffen.\n\n\n
SUMMARY:Berlin im Beutel
END:VEVENT
END:VCALENDAR
