BEGIN:VCALENDAR
X-WR-TIMEZONE:Europe/Berlin
X-WR-CALNAME:rbb-Kalender
VERSION:2.0
METHOD:PUBLISH
CALSCALE:GREGORIAN
PRODID:rbb-CMS DAY
BEGIN:VEVENT
CLASS:PUBLIC
URL:http://www.rbb-online.de/content/rbb/rbb/zibb/archiv/20131121_1830/wunschzeit.html
DTEND:20131121T192500
DTSTART:20131121T183000
UID:/content/rbb/rbb/zibb/archiv/20131121_1830/wunschzeit
DTSTAMP:20140407T005000
DESCRIPTION:Unsere zibb-Wunschzeit steht diesmal unter dem Motto Alle für Einen. Wir möchten Menschen Herzenswünsche erfüllen, die hilfsbereit sind, sich ohne Gegenleistung engagieren oder Großes vollbringen.\n\n\n
SUMMARY:Wunschzeit: Bärbel Würfel aus Wendemark
END:VEVENT
END:VCALENDAR
