BEGIN:VCALENDAR
X-WR-TIMEZONE:Europe/Berlin
X-WR-CALNAME:rbb-Kalender
VERSION:2.0
METHOD:PUBLISH
CALSCALE:GREGORIAN
PRODID:rbb-CMS DAY
BEGIN:VEVENT
CLASS:PUBLIC
URL:http://www.rbb-online.de/content/rbb/rbb/zibb/archiv/20131125_1830/ballspielen-nach-gehoer.html
DTEND:20131125T192500
DTSTART:20131125T183000
UID:/content/rbb/rbb/zibb/archiv/20131125_1830/ballspielen-nach-gehoer
DTSTAMP:20140406T225848
DESCRIPTION:Showdown wird mit Hilfe von Gehör und Gefühl gespielt. Das wird durch einen rasselnden Ball ermöglicht. Im Spielraum soll absolute Stille herrschen. Keiner darf während des Spiels den Raum betreten oder verlassen. zibb stellt das faszinierende Spiel vor.\n\n\n
SUMMARY:Ballspielen nach Gehör
END:VEVENT
END:VCALENDAR
