BEGIN:VCALENDAR
X-WR-TIMEZONE:Europe/Berlin
X-WR-CALNAME:rbb-Kalender
VERSION:2.0
METHOD:PUBLISH
CALSCALE:GREGORIAN
PRODID:rbb-CMS DAY
BEGIN:VEVENT
CLASS:PUBLIC
URL:http://www.rbb-online.de/content/rbb/rbb/zibb/archiv/20131125_1830/von-buechern-und-zahnaerzten.html
DTEND:20131125T192500
DTSTART:20131125T183000
UID:/content/rbb/rbb/zibb/archiv/20131125_1830/von-buechern-und-zahnaerzten
DTSTAMP:20140406T225733
DESCRIPTION:Viele Menschen haben Angst vor dem Zahnarzt. Um Patienten die Furcht davor zu nehmen, lassen sich viele Praxen etwas einfallen. Drei Berliner Zahnärzte haben eine ganz neue Idee entwickelt, um ihre Patienten zu beruhigen.\n\n\n
SUMMARY:Von Büchern und Zahnärzten
END:VEVENT
END:VCALENDAR
