BEGIN:VCALENDAR
X-WR-TIMEZONE:Europe/Berlin
X-WR-CALNAME:rbb-Kalender
VERSION:2.0
METHOD:PUBLISH
CALSCALE:GREGORIAN
PRODID:rbb-CMS DAY
BEGIN:VEVENT
CLASS:PUBLIC
URL:http://www.rbb-online.de/content/rbb/rbb/zibb/archiv/20131125_1830/weihnachtet-es-sehr.html
DTEND:20131125T192500
DTSTART:20131125T183000
UID:/content/rbb/rbb/zibb/archiv/20131125_1830/weihnachtet-es-sehr
DTSTAMP:20140406T225819
DESCRIPTION:Frostige Überraschung am Montag Morgen: vielerorts waren in Berlin und Brandenburg die Autoscheiben vereist. Wer erst etwas später aus dem Haus musste, dem half dann die Sonne beim Eiskratzen. Denn nach dem Kaltstart kam der blaue Himmel mit viel Sonnenschein und fast so etwas wie Wärme. Schöner kann die vorweihnachtliche Zeit eigentlich gar nicht beginnen.\n\n\n
SUMMARY:Der Weihnachts-Countdown beginnt
END:VEVENT
END:VCALENDAR
