BEGIN:VCALENDAR
X-WR-TIMEZONE:Europe/Berlin
X-WR-CALNAME:rbb-Kalender
VERSION:2.0
METHOD:PUBLISH
CALSCALE:GREGORIAN
PRODID:rbb-CMS DAY
BEGIN:VEVENT
CLASS:PUBLIC
URL:http://www.rbb-online.de/content/rbb/rbb/zibb/archiv/20131126_1830/fernsehen-der-zukunft.html
DTEND:20131126T192500
DTSTART:20131126T183000
UID:/content/rbb/rbb/zibb/archiv/20131126_1830/fernsehen-der-zukunft
DTSTAMP:20140406T235258
DESCRIPTION:Mediakraft ist eine große Online-TV-Sendergruppe, die Hunderte von Netzwerken und Kanäle auf Youtube betreibt. Das Unternehmen unterstützt junge Videomacher und namhafte YouTube-Stars. zibb stellt das Konzept vor.\n\n\n
SUMMARY:Das Fernsehen der Zukunft
END:VEVENT
END:VCALENDAR
