BEGIN:VCALENDAR
X-WR-TIMEZONE:Europe/Berlin
X-WR-CALNAME:rbb-Kalender
VERSION:2.0
METHOD:PUBLISH
CALSCALE:GREGORIAN
PRODID:rbb-CMS DAY
BEGIN:VEVENT
CLASS:PUBLIC
URL:http://www.rbb-online.de/content/rbb/rbb/zibb/archiv/20131126_1830/leben-zwischen-zwei-kulturen.html
DTEND:20131126T192500
DTSTART:20131126T183000
UID:/content/rbb/rbb/zibb/archiv/20131126_1830/leben-zwischen-zwei-kulturen
DTSTAMP:20140406T235414
DESCRIPTION:Es ist nicht leicht, eine Wohnung in Berlin zu bekommen. Noch schwieriger wird es, wenn man keine weiße Hautfarbe hat. Das musste auch Brenda Boateng bei ihrer jahrelangen Suche erleben. zibb hat die junge Frau besucht, die neben ihrem Job auch als DJ in einem Club auflegt.\n\n\n
SUMMARY:Ein Leben zwischen zwei Kulturen
END:VEVENT
END:VCALENDAR
