BEGIN:VCALENDAR
X-WR-TIMEZONE:Europe/Berlin
X-WR-CALNAME:rbb-Kalender
VERSION:2.0
METHOD:PUBLISH
CALSCALE:GREGORIAN
PRODID:rbb-CMS DAY
BEGIN:VEVENT
CLASS:PUBLIC
URL:http://www.rbb-online.de/content/rbb/rbb/zibb/archiv/20131127_1830/junkie-.html
DTEND:20131127T192500
DTSTART:20131127T183000
UID:/content/rbb/rbb/zibb/archiv/20131127_1830/junkie-
DTSTAMP:20140406T233531
DESCRIPTION:Vor vier Jahren war Max Krüger ganz unten. Über Jahre hatten Drogen sein Leben bestimmt. Erst brach er die Ausbildung ab, dann kam er auf die schiefe Bahn, dann vor Gericht. Als es nicht mehr weiter ging, fand er seinen Weg zum Selbsthilfeprojekt Scarabäus.\n\n\n\n\n
SUMMARY:Vom Junkie zum Töpfer
END:VEVENT
END:VCALENDAR
