BEGIN:VCALENDAR
X-WR-TIMEZONE:Europe/Berlin
X-WR-CALNAME:rbb-Kalender
VERSION:2.0
METHOD:PUBLISH
CALSCALE:GREGORIAN
PRODID:rbb-CMS DAY
BEGIN:VEVENT
CLASS:PUBLIC
URL:http://www.rbb-online.de/content/rbb/rbb/zibb/archiv/20131127_1830/kampfhund.html
DTEND:20131127T192500
DTSTART:20131127T183000
UID:/content/rbb/rbb/zibb/archiv/20131127_1830/kampfhund
DTSTAMP:20140406T233551
DESCRIPTION:Der 10-Jährige Dylan aus Schönwalde liegt seit seiner Geburt im Wachkoma. Seine Hündin Tascha gehört sozusagen zur Familie und leistet gute Dienste als Therapiehund. Doch nun hat die Staffordshire-Terrierdame einen anderen Hund gebissen und soll weg – sagt das Ordnungsamt.\n\n\n
SUMMARY:Streit um Kampfhund des Komajungen 
END:VEVENT
END:VCALENDAR
