BEGIN:VCALENDAR
X-WR-TIMEZONE:Europe/Berlin
X-WR-CALNAME:rbb-Kalender
VERSION:2.0
METHOD:PUBLISH
CALSCALE:GREGORIAN
PRODID:rbb-CMS DAY
BEGIN:VEVENT
CLASS:PUBLIC
URL:http://www.rbb-online.de/content/rbb/rbb/zibb/archiv/20131127_1830/komet.html
DTEND:20131127T192500
DTSTART:20131127T183000
UID:/content/rbb/rbb/zibb/archiv/20131127_1830/komet
DTSTAMP:20140406T233612
DESCRIPTION:Ab Anfang Dezember soll er bei wolkenlosem Himmel mit dem Auge zu sehen sein, der Komet ISON. Wenn alles gut geht, denn zuvor streift er sehr dicht die Sonne und könnte dabei verschwinden, regelrecht verdampfen.\n\n\n
SUMMARY:Wenn der Komet kommt
END:VEVENT
END:VCALENDAR
