BEGIN:VCALENDAR
X-WR-TIMEZONE:Europe/Berlin
X-WR-CALNAME:rbb-Kalender
VERSION:2.0
METHOD:PUBLISH
CALSCALE:GREGORIAN
PRODID:rbb-CMS DAY
BEGIN:VEVENT
CLASS:PUBLIC
URL:http://www.rbb-online.de/content/rbb/rbb/zibb/archiv/20131128_1830/heizkraftwerk.html
DTEND:20131128T192500
DTSTART:20131128T183000
UID:/content/rbb/rbb/zibb/archiv/20131128_1830/heizkraftwerk
DTSTAMP:20140406T221100
DESCRIPTION:Langsam wird es richtig kalt in Berlin und Brandenburg. Wer nicht mit Öl oder Gas heizt, der hat vielleicht eine Fernwärmeheizung, so wie die Bewohner von Gropiusstadt in Berlin. Ihre Energie wird ganz in der Nähe direkt am Teltowkanal in Rudow erzeugt - in einem Holzheizkraftwerk.\n
SUMMARY:Zu Besuch im Holzheizkraftwerk
END:VEVENT
END:VCALENDAR
