BEGIN:VCALENDAR
X-WR-TIMEZONE:Europe/Berlin
X-WR-CALNAME:rbb-Kalender
VERSION:2.0
METHOD:PUBLISH
CALSCALE:GREGORIAN
PRODID:rbb-CMS DAY
BEGIN:VEVENT
CLASS:PUBLIC
URL:http://www.rbb-online.de/content/rbb/rbb/zibb/archiv/20131128_1830/polizeiartisten.html
DTEND:20131128T192500
DTSTART:20131128T183000
UID:/content/rbb/rbb/zibb/archiv/20131128_1830/polizeiartisten
DTSTAMP:20140406T221124
DESCRIPTION:Nächstes Jahr hätte die Berliner Motorradsportgruppe 60-jähriges Jubiläum gefeiert, doch nun wird es sie ab Mitte Dezember nicht mehr geben. Die 32 Frauen und Männer fallen nun auch dem Geldmangel zum Opfer, genauso wie ihre Kollegen vom Polizei Orchester und der Reiterstaffel. Sie waren Tradition und Aushängeschild der Polizei.\n
SUMMARY:Aus für Polizeiartisten
END:VEVENT
END:VCALENDAR
