BEGIN:VCALENDAR
X-WR-TIMEZONE:Europe/Berlin
X-WR-CALNAME:rbb-Kalender
VERSION:2.0
METHOD:PUBLISH
CALSCALE:GREGORIAN
PRODID:rbb-CMS DAY
BEGIN:VEVENT
CLASS:PUBLIC
URL:http://www.rbb-online.de/content/rbb/rbb/zibb/archiv/20131128_1830/tierpark.html
DTEND:20131128T192500
DTSTART:20131128T183000
UID:/content/rbb/rbb/zibb/archiv/20131128_1830/tierpark
DTSTAMP:20140406T221105
DESCRIPTION:Es sind faszinierende Raubkatzen, solange man sie aus sicherer Entfernung beobachten kann. Diese Tiger gehören zu einer großen Tierfamilie in Berlin Friedrichsfelde. Gut 900 Arten sind hier beheimatet im größten Landschaftstiergarten Europas.\n\n\n
SUMMARY:Aufbauhelfer im Tierpark
END:VEVENT
END:VCALENDAR
