BEGIN:VCALENDAR
X-WR-TIMEZONE:Europe/Berlin
X-WR-CALNAME:rbb-Kalender
VERSION:2.0
METHOD:PUBLISH
CALSCALE:GREGORIAN
PRODID:rbb-CMS DAY
BEGIN:VEVENT
CLASS:PUBLIC
URL:http://www.rbb-online.de/content/rbb/rbb/zibb/archiv/20131128_1830/wolfsland.html
DTEND:20131128T192500
DTSTART:20131128T183000
UID:/content/rbb/rbb/zibb/archiv/20131128_1830/wolfsland
DTSTAMP:20140406T221045
DESCRIPTION:Bevor der neueste Polizeiruf im Fernsehen zu sehen ist, feiert er traditionell erstmal eine richtige Leinwandpremiere – diesmal im Babylon Kino in Berlin. Die Episode „Wolfsland“ ist am 15. Dezember im Ersten zu sehen. \n \n
SUMMARY:Premiere von Polizeiruf "Wolfsland"
END:VEVENT
END:VCALENDAR
