BEGIN:VCALENDAR
X-WR-TIMEZONE:Europe/Berlin
X-WR-CALNAME:rbb-Kalender
VERSION:2.0
METHOD:PUBLISH
CALSCALE:GREGORIAN
PRODID:rbb-CMS DAY
BEGIN:VEVENT
CLASS:PUBLIC
URL:http://www.rbb-online.de/content/rbb/rbb/zibb/archiv/20131202_1830/Champions_gegen_angst.html
DTEND:20131202T192500
DTSTART:20131202T183000
UID:/content/rbb/rbb/zibb/archiv/20131202_1830/Champions_gegen_angst
DTSTAMP:20140406T225154
DESCRIPTION:Bei "Champions ohne Grenzen" lässt sich die Angst vergessen – wenigstens ein bisschen und vielleicht für ganze 90 Minuten. Angst haben vor allem die Mitglieder des Vereins „…weil Fussball verbindet e.V.“ – Flüchtlinge aus Afghanistan, Pakistan, dem Iran oder Afrika, deren Status nicht geklärt ist und denen unter Umständen die Abschiebung droht.\n
SUMMARY:Champions gegen die Angst
END:VEVENT
END:VCALENDAR
