BEGIN:VCALENDAR
X-WR-TIMEZONE:Europe/Berlin
X-WR-CALNAME:rbb-Kalender
VERSION:2.0
METHOD:PUBLISH
CALSCALE:GREGORIAN
PRODID:rbb-CMS DAY
BEGIN:VEVENT
CLASS:PUBLIC
URL:http://www.rbb-online.de/content/rbb/rbb/zibb/archiv/20131202_1830/dylan-kampfhund-tascha.html
DTEND:20131202T192500
DTSTART:20131202T183000
UID:/content/rbb/rbb/zibb/archiv/20131202_1830/dylan-kampfhund-tascha
DTSTAMP:20140406T225112
DESCRIPTION:Die Geschichte von Dylan – dem Jungen im Wachkoma - und Tascha - der Kampfhündin - scheint kein Ende zu nehmen. Die Hündin hat laut Gesetzgebung des Landes Brandenburg in Schönwalde nichts zu suchen. Das war den Eltern von Dylan bei ihrem Umzug aus Berlin offenbar so nicht bekannt.\n\n\n
SUMMARY:Wie weiter mit Dylan und dem Kampfhund Tascha?
END:VEVENT
END:VCALENDAR
