BEGIN:VCALENDAR
X-WR-TIMEZONE:Europe/Berlin
X-WR-CALNAME:rbb-Kalender
VERSION:2.0
METHOD:PUBLISH
CALSCALE:GREGORIAN
PRODID:rbb-CMS DAY
BEGIN:VEVENT
CLASS:PUBLIC
URL:http://www.rbb-online.de/content/rbb/rbb/zibb/archiv/20131203_1830/besonderer-schnitt.html
DTEND:20131203T192500
DTSTART:20131203T183000
UID:/content/rbb/rbb/zibb/archiv/20131203_1830/besonderer-schnitt
DTSTAMP:20140406T231538
DESCRIPTION:In der Modewelt dreht sich alles um Perfektion, Schönheit und Makellosigkeit. Wer einen Körperbau jenseits der Norm hat, wird ausgegrenzt. Gerade Menschen mit Trisomie 21 passen die Hemden von der Stange oft nicht.\n\n\n
SUMMARY:Besonderer Schnitt
END:VEVENT
END:VCALENDAR
