BEGIN:VCALENDAR
X-WR-TIMEZONE:Europe/Berlin
X-WR-CALNAME:rbb-Kalender
VERSION:2.0
METHOD:PUBLISH
CALSCALE:GREGORIAN
PRODID:rbb-CMS DAY
BEGIN:VEVENT
CLASS:PUBLIC
URL:http://www.rbb-online.de/content/rbb/rbb/zibb/archiv/20131203_1830/teemischung_selbstgemacht.html
DTEND:20131203T192500
DTSTART:20131203T183000
UID:/content/rbb/rbb/zibb/archiv/20131203_1830/teemischung_selbstgemacht
DTSTAMP:20140406T231442
DESCRIPTION:"5 CUPS and some sugar": Wer hier arbeitet, für den ist Tee kochen im Arbeitsalltag wirklich ein ganz großes Thema. "5 Cups" - dahinter stecken fünf Berliner Jungs, die alle die Liebe zum Teetrinken vereint. Langweilige Tee-Sorten: Fehlanzeige!\n\n\n
SUMMARY:Teemischung selbst gemacht
END:VEVENT
END:VCALENDAR
