BEGIN:VCALENDAR
X-WR-TIMEZONE:Europe/Berlin
X-WR-CALNAME:rbb-Kalender
VERSION:2.0
METHOD:PUBLISH
CALSCALE:GREGORIAN
PRODID:rbb-CMS DAY
BEGIN:VEVENT
CLASS:PUBLIC
URL:http://www.rbb-online.de/content/rbb/rbb/zibb/archiv/20131204_1830/orkantief-xaver-naehert-sich.html
DTEND:20131204T192500
DTSTART:20131204T183000
UID:/content/rbb/rbb/zibb/archiv/20131204_1830/orkantief-xaver-naehert-sich
DTSTAMP:20140406T083821
DESCRIPTION:Deutschland bereitet sich auf die Ankunft des starken Orkantiefs "Xaver" vor. Nach Angaben des Deutschen Wetterdiensts (DWD) vom Mittwoch ist am Donnerstag und Freitag vor allem an den norddeutschen Küsten mit extremen Orkanböen zu rechnen, auch bis weit ins Hinterland mit starkem Sturm. Auch in Berlin und Brandenburg wird der Orkan zu spüren sein.\n\n\n
SUMMARY:Orkantief "Xaver" nähert sich
END:VEVENT
END:VCALENDAR
