BEGIN:VCALENDAR
X-WR-TIMEZONE:Europe/Berlin
X-WR-CALNAME:rbb-Kalender
VERSION:2.0
METHOD:PUBLISH
CALSCALE:GREGORIAN
PRODID:rbb-CMS DAY
BEGIN:VEVENT
CLASS:PUBLIC
URL:http://www.rbb-online.de/content/rbb/rbb/zibb/archiv/20131205_1830/ice-age-show-in-berlin.html
DTEND:20131205T192500
DTSTART:20131205T183000
UID:/content/rbb/rbb/zibb/archiv/20131205_1830/ice-age-show-in-berlin
DTSTAMP:20140406T221655
DESCRIPTION:Deutschlands beliebtestes Faultier Sid ist in Berlin. Donnerstag feiert die spektakuläre Show "Ice Age Live - ein mammutiges Abenteuer" Premiere. Die Eiszeit mit der Chaos-Clique in Berlin dauert bis zum Sonntag. zibb ist während der ersten Vorstellung in der O2 world live dabei.\n\n\n
SUMMARY:"Ice Age"-Show feiert Premiere
END:VEVENT
END:VCALENDAR
