BEGIN:VCALENDAR
X-WR-TIMEZONE:Europe/Berlin
X-WR-CALNAME:rbb-Kalender
VERSION:2.0
METHOD:PUBLISH
CALSCALE:GREGORIAN
PRODID:rbb-CMS DAY
BEGIN:VEVENT
CLASS:PUBLIC
URL:http://www.rbb-online.de/content/rbb/rbb/zibb/archiv/20131205_1830/potsdamer-stadtschloss-fertiggestellt.html
DTEND:20131205T192500
DTSTART:20131205T183000
UID:/content/rbb/rbb/zibb/archiv/20131205_1830/potsdamer-stadtschloss-fertiggestellt
DTSTAMP:20140406T221556
DESCRIPTION:Mehr als vier Jahre wurde geplant, beantragt und gewerkelt - nun ist der Brandenburger Landtag im wiederaufgebauten historischen Stadtschloss am Potsdamer Alten Markt offiziell fertig. zibb hat sich das Gebäude schon gründlich angeschaut.\n\n\n
SUMMARY:Potsdamer Stadtschloss fertiggestellt
END:VEVENT
END:VCALENDAR
