BEGIN:VCALENDAR
X-WR-TIMEZONE:Europe/Berlin
X-WR-CALNAME:rbb-Kalender
VERSION:2.0
METHOD:PUBLISH
CALSCALE:GREGORIAN
PRODID:rbb-CMS DAY
BEGIN:VEVENT
CLASS:PUBLIC
URL:http://www.rbb-online.de/content/rbb/rbb/zibb/archiv/20131205_1830/vorbereitungen-auf-xaver.html
DTEND:20131205T192500
DTSTART:20131205T183000
UID:/content/rbb/rbb/zibb/archiv/20131205_1830/vorbereitungen-auf-xaver
DTSTAMP:20140406T221620
DESCRIPTION:Der Deutsche Wetterdienst hat die Menschen in Berlin und Brandenburg wegen des Orkantiefs "Xaver" zur Vorsicht aufgerufen. zibb war tagsüber in der Prignitz unterwegs und hat sich vor Ort informiert, wie man sich hier auf den zu erwartenden starken Sturm vorbereitet.\n\n\n
SUMMARY:Vorbereitungen auf "Xaver"
END:VEVENT
END:VCALENDAR
