BEGIN:VCALENDAR
X-WR-TIMEZONE:Europe/Berlin
X-WR-CALNAME:rbb-Kalender
VERSION:2.0
METHOD:PUBLISH
CALSCALE:GREGORIAN
PRODID:rbb-CMS DAY
BEGIN:VEVENT
CLASS:PUBLIC
URL:http://www.rbb-online.de/content/rbb/rbb/zibb/archiv/20131205_1830/zibb-jetzt-in-hd.html
DTEND:20131205T192500
DTSTART:20131205T183000
UID:/content/rbb/rbb/zibb/archiv/20131205_1830/zibb-jetzt-in-hd
DTSTAMP:20140406T221549
DESCRIPTION:Ab sofort sendet das rbb Fernsehen sein Programm in High Definition (HD). Was müssen Zuschauer tun, um zibb künftig in verbesserter Bild- und Tonqualität zu sehen? Antworten dazu in unserem Studiogespräch mit dem rbb-Aufnahmeleiter Marcel Groß.\n\n\n
SUMMARY:zibb jetzt in HD
END:VEVENT
END:VCALENDAR
