BEGIN:VCALENDAR
X-WR-TIMEZONE:Europe/Berlin
X-WR-CALNAME:rbb-Kalender
VERSION:2.0
METHOD:PUBLISH
CALSCALE:GREGORIAN
PRODID:rbb-CMS DAY
BEGIN:VEVENT
CLASS:PUBLIC
URL:http://www.rbb-online.de/content/rbb/rbb/zibb/archiv/20131206_1830/dit-war-dit.html
DTEND:20131206T192500
DTSTART:20131206T183000
UID:/content/rbb/rbb/zibb/archiv/20131206_1830/dit-war-dit
DTSTAMP:20140407T004717
DESCRIPTION:Am Freitag sorgten in erster Linie weiße Flocken, die vom Himmel fielen, vielleicht für vorweihnachtliche Gefühle. Aber wenn man mal ganz ehrlich ist und ganz genau hinsieht: es war nicht alles  so wahnsinnig himmlisch in der vergangenen Woche, wie unser Rückblick zeigt.\n\n\n
SUMMARY:Dit war dit
END:VEVENT
END:VCALENDAR
