BEGIN:VCALENDAR
X-WR-TIMEZONE:Europe/Berlin
X-WR-CALNAME:rbb-Kalender
VERSION:2.0
METHOD:PUBLISH
CALSCALE:GREGORIAN
PRODID:rbb-CMS DAY
BEGIN:VEVENT
CLASS:PUBLIC
URL:http://www.rbb-online.de/content/rbb/rbb/zibb/archiv/20131206_1830/maerchensamstag.html
DTEND:20131206T192500
DTSTART:20131206T183000
UID:/content/rbb/rbb/zibb/archiv/20131206_1830/maerchensamstag
DTSTAMP:20140407T004654
DESCRIPTION:Am 07.12. ist es soweit: das rbb Fernsehen zeigt ab 10:00 Uhr sechs Märchenfilme. Los geht es morgens mit "Zwerg Nase. Präsentiert werden die Filme von Madeleine Wehle. zibb ist vorab schon mal in die geheimnisvolle Märchenwelt eingetaucht.\n\n\n
SUMMARY:Märchensamstag
END:VEVENT
END:VCALENDAR
