BEGIN:VCALENDAR
X-WR-TIMEZONE:Europe/Berlin
X-WR-CALNAME:rbb-Kalender
VERSION:2.0
METHOD:PUBLISH
CALSCALE:GREGORIAN
PRODID:rbb-CMS DAY
BEGIN:VEVENT
CLASS:PUBLIC
URL:http://www.rbb-online.de/content/rbb/rbb/zibb/archiv/20131209_1830/hobbit.html
DTEND:20131209T192500
DTSTART:20131209T183000
UID:/content/rbb/rbb/zibb/archiv/20131209_1830/hobbit
DTSTAMP:20140406T225514
DESCRIPTION:Am Potsdamer Platz fand am Montag die Europapremiere des zweiten Hobbit-Teils "Smaugs Einöde" statt. In der Mitte des Sony-Centers wurde dafür extra ein riesiger Drachenschädel aufgebaut, der sich in einem Meer aus Goldstücken befindet. \n\n\n\n\n
SUMMARY:Hobbit Europapremiere in Berlin
END:VEVENT
END:VCALENDAR
