BEGIN:VCALENDAR
X-WR-TIMEZONE:Europe/Berlin
X-WR-CALNAME:rbb-Kalender
VERSION:2.0
METHOD:PUBLISH
CALSCALE:GREGORIAN
PRODID:rbb-CMS DAY
BEGIN:VEVENT
CLASS:PUBLIC
URL:http://www.rbb-online.de/content/rbb/rbb/zibb/archiv/20131209_1830/s-bahn-tunnel.html
DTEND:20131209T192500
DTSTART:20131209T183000
UID:/content/rbb/rbb/zibb/archiv/20131209_1830/s-bahn-tunnel
DTSTAMP:20140406T225447
DESCRIPTION:Ein schreckliches Unglück hat sich am Montagmorgen im S-Bahntunnel am Bahnhof Friedrichstraße ereignet. Ein Mann wurde dabei von einem Zug erfasst und getötet. War das Opfer ein Obdachloser, der im stillgelegten Tunnel wegen der Kälte übernachtet hatte? \n\n \n\n\n
SUMMARY:Tödlicher Unfall im S-Bahn-Tunnel
END:VEVENT
END:VCALENDAR
