BEGIN:VCALENDAR
X-WR-TIMEZONE:Europe/Berlin
X-WR-CALNAME:rbb-Kalender
VERSION:2.0
METHOD:PUBLISH
CALSCALE:GREGORIAN
PRODID:rbb-CMS DAY
BEGIN:VEVENT
CLASS:PUBLIC
URL:http://www.rbb-online.de/content/rbb/rbb/zibb/archiv/20131209_1830/weihnachtsbaum.html
DTEND:20131209T192500
DTSTART:20131209T183000
UID:/content/rbb/rbb/zibb/archiv/20131209_1830/weihnachtsbaum
DTSTAMP:20140406T225540
DESCRIPTION:Nordmanntanne, Schwarzkiefer, Blaufichte, Coloradotanne? Jedes Jahr um diese Zeit wird in den Familien diskutiert, wie der Weihnachtsbaum in diesem Jahr aussehen soll. Zibb war im Potsdamer Lustgarten beim Weihnachtsbaumverkauf des Werderaner Tannenhofs und hat die besten Tipps.\n
SUMMARY:Der richtige Weihnachtsbaum
END:VEVENT
END:VCALENDAR
