BEGIN:VCALENDAR
X-WR-TIMEZONE:Europe/Berlin
X-WR-CALNAME:rbb-Kalender
VERSION:2.0
METHOD:PUBLISH
CALSCALE:GREGORIAN
PRODID:rbb-CMS DAY
BEGIN:VEVENT
CLASS:PUBLIC
URL:http://www.rbb-online.de/content/rbb/rbb/zibb/archiv/20131210_1830/architekt-kurt-lange.html
DTEND:20131210T192500
DTSTART:20131210T183000
UID:/content/rbb/rbb/zibb/archiv/20131210_1830/architekt-kurt-lange
DTSTAMP:20140407T004446
DESCRIPTION:Es ist nicht jedem Menschen vergönnt, etwas Bleibendes zu hinterlassen, etwas, das sein Leben auf dieser Welt überdauert. Der Architekt Kurt E. Lange hat viele Spuren hinterlassen - vor allem in seinem Heimatort Wilhelmshorst.\n
SUMMARY:Auf den Spuren des Architekten Kurt E. Lange
END:VEVENT
END:VCALENDAR
