BEGIN:VCALENDAR
X-WR-TIMEZONE:Europe/Berlin
X-WR-CALNAME:rbb-Kalender
VERSION:2.0
METHOD:PUBLISH
CALSCALE:GREGORIAN
PRODID:rbb-CMS DAY
BEGIN:VEVENT
CLASS:PUBLIC
URL:http://www.rbb-online.de/content/rbb/rbb/zibb/archiv/20131211_1830/geschenkkauf.html
DTEND:20131211T192500
DTSTART:20131211T183000
UID:/content/rbb/rbb/zibb/archiv/20131211_1830/geschenkkauf
DTSTAMP:20140407T002009
DESCRIPTION:Mit der Veröffentlichung von Bildern sucht die Berliner Polizei Hinweise zur Aufklärung eines brutalen Überfalls in der Frankfurter Allee. Zwei Unbekannte hatten versucht das Lokal "Grillhaus" auszurauben.\n\n\n
SUMMARY:Schwerer Raub in Restaurant	
END:VEVENT
END:VCALENDAR
