BEGIN:VCALENDAR
X-WR-TIMEZONE:Europe/Berlin
X-WR-CALNAME:rbb-Kalender
VERSION:2.0
METHOD:PUBLISH
CALSCALE:GREGORIAN
PRODID:rbb-CMS DAY
BEGIN:VEVENT
CLASS:PUBLIC
URL:http://www.rbb-online.de/content/rbb/rbb/zibb/archiv/20131211_1830/sternehotel-obdachlose.html
DTEND:20131211T192500
DTSTART:20131211T183000
UID:/content/rbb/rbb/zibb/archiv/20131211_1830/sternehotel-obdachlose
DTSTAMP:20140407T002033
DESCRIPTION:Obdachlose müssen auf der Straße leben und gleichzeitig stehen in Hotels so viele Zimmer leer. Die Chefin des Hotels Arcona in Potsdam fand das falsch und hat nun zum zweiten Mal Obdachlose eingeladen im Hotel zu wohnen. Kost und Logis frei!\n\n\n\n\n
SUMMARY:Sternehotel für Obdachlose
END:VEVENT
END:VCALENDAR
