BEGIN:VCALENDAR
X-WR-TIMEZONE:Europe/Berlin
X-WR-CALNAME:rbb-Kalender
VERSION:2.0
METHOD:PUBLISH
CALSCALE:GREGORIAN
PRODID:rbb-CMS DAY
BEGIN:VEVENT
CLASS:PUBLIC
URL:http://www.rbb-online.de/content/rbb/rbb/zibb/archiv/20131212_1830/malsalon.html
DTEND:20131212T192500
DTSTART:20131212T183000
UID:/content/rbb/rbb/zibb/archiv/20131212_1830/malsalon
DTSTAMP:20140406T221524
DESCRIPTION:Sie wollten schon immer mal selbst eine Kopie von Franz Marcs oder Roy Lichtensteins oder Banksys berühmter Bilder anfertigen? Kein Problem: Workshops in Prenzlauer Berg machen es möglich.\n\n\n\n\n
SUMMARY:Willkommen im Malsalon
END:VEVENT
END:VCALENDAR
